BEGIN:VCALENDAR
VERSION:2.0
PRODID:-//Artificial Intelligence Lab Brussels - ECPv6.15.20//NONSGML v1.0//EN
CALSCALE:GREGORIAN
METHOD:PUBLISH
X-ORIGINAL-URL:https://ai.vub.ac.be
X-WR-CALDESC:Events for Artificial Intelligence Lab Brussels
REFRESH-INTERVAL;VALUE=DURATION:PT1H
X-Robots-Tag:noindex
X-PUBLISHED-TTL:PT1H
BEGIN:VTIMEZONE
TZID:Europe/Brussels
BEGIN:DAYLIGHT
TZOFFSETFROM:+0100
TZOFFSETTO:+0200
TZNAME:CEST
DTSTART:20230326T010000
END:DAYLIGHT
BEGIN:STANDARD
TZOFFSETFROM:+0200
TZOFFSETTO:+0100
TZNAME:CET
DTSTART:20231029T010000
END:STANDARD
BEGIN:DAYLIGHT
TZOFFSETFROM:+0100
TZOFFSETTO:+0200
TZNAME:CEST
DTSTART:20240331T010000
END:DAYLIGHT
BEGIN:STANDARD
TZOFFSETFROM:+0200
TZOFFSETTO:+0100
TZNAME:CET
DTSTART:20241027T010000
END:STANDARD
BEGIN:DAYLIGHT
TZOFFSETFROM:+0100
TZOFFSETTO:+0200
TZNAME:CEST
DTSTART:20250330T010000
END:DAYLIGHT
BEGIN:STANDARD
TZOFFSETFROM:+0200
TZOFFSETTO:+0100
TZNAME:CET
DTSTART:20251026T010000
END:STANDARD
BEGIN:DAYLIGHT
TZOFFSETFROM:+0100
TZOFFSETTO:+0200
TZNAME:CEST
DTSTART:20260329T010000
END:DAYLIGHT
BEGIN:STANDARD
TZOFFSETFROM:+0200
TZOFFSETTO:+0100
TZNAME:CET
DTSTART:20261025T010000
END:STANDARD
END:VTIMEZONE
BEGIN:VEVENT
DTSTART;TZID=Europe/Brussels:20250604T150000
DTEND;TZID=Europe/Brussels:20250604T180000
DTSTAMP:20260419T161818
CREATED:20250422T093715Z
LAST-MODIFIED:20250422T095052Z
UID:17166-1749049200-1749060000@ai.vub.ac.be
SUMMARY:Seminarie: Generatieve AI voor leerkrachten secundair onderwijs
DESCRIPTION:Seminarie: Generatieve AI voor leerkrachten secundair onderwijs\n  \nVoor wie?\nLeerkrachten in het middelbaar onderwijs. \nDeelname is gratis\, inschrijven is wel verplicht. De inschrijvingen zijn individueel!\n \nSchrijf me in!\n  \nWat staat er op het programma?\nOp iets meer dan twee jaar tijd is generatieve AI in het onderwijs niet meer weg te denken. Leerlingen gebruiken het om huiswerk te maken\, handboeken samen te vatten\, oefentoetsen op te stellen\, eindwerken te schrijven\, enzovoort. Leerkrachten moeten zich ondertussen razendsnel aanpassen. \nIn dit seminarie\, georganiseerd door het Artificial Intelligence Lab\, maken we tijd voor een reflectie over generatieve AI in het onderwijs. We starten met een introductie tot generatieve AI en gaan dieper in op hoe de algoritmen werken achter de schermen. Vervolgens bekijken we op welke manieren deze technologieën ingezet kunnen worden om op een zinvolle manier de onderwijsdoelstellingen te ondersteunen\, alsook waar er valkuilen liggen die tot onoordeelkundig en contraproductief gebruik kunnen leiden.
URL:https://ai.vub.ac.be/events-calendar/seminarie-generatieve-ai-voor-leerkrachten-secundair-onderwijs/
LOCATION:FARI AI for the Common Good Institute\, Cantersteen 16\, Brussels\, 1000\, Belgium
CATEGORIES:learning,seminar
END:VEVENT
BEGIN:VEVENT
DTSTART;TZID=Europe/Brussels:20240522T140000
DTEND;TZID=Europe/Brussels:20240522T170000
DTSTAMP:20260419T161818
CREATED:20240408T095523Z
LAST-MODIFIED:20240417T133426Z
UID:16279-1716386400-1716397200@ai.vub.ac.be
SUMMARY:Masterclass AI 2024
DESCRIPTION:Ontdek de verbazingwekkende wereld van de artificiële intelligentie\n \nVoor wie?\nLeerlingen in de derde graad van het middelbaar onderwijs. \nDeelname is gratis\, inschrijven is wel verplicht. De inschrijvingen zijn individueel!\nOm het evenement in klasverband bij te wonen\, dien je contact op te nemen met het AI Lab!\n \nSchrijf me in!\n  \nWat staat er op het programma?\nAls leerling in de derde graad van het middelbaar onderwijs krijg je tijdens deze masterclass een voorproefje van wat de bachelor Artificiële Intelligentie te bieden heeft. \nArtificiële Intelligentie (AI) is dé wetenschap achter slimme technologieën. Laat je door onze VUB-onderzoekers meenemen op een boeiende reis door de geschiedenis van AI. Verwacht niet alleen interessante demonstraties\, maar ga ook zelf aan de slag met praktische opdrachten en experimenten. \nBen je gefascineerd door hoe snel baby’s taal kunnen leren? Wil je begrijpen wat intelligentie inhoudt en hoe het zowel in het menselijk brein als in computers werkt? Sta je te popelen om te ontdekken wat we kunnen leren van mieren op het gebied van organisatie? En het belangrijkste\, wil je deze kennis gebruiken om zelf slimme systemen te ontwikkelen? \n  \n 
URL:https://ai.vub.ac.be/events-calendar/masterclass-ai-2024/
LOCATION:VUB AI Lab\, Pleinlaan 9\, Elsene\, 1050\, Belgium
CATEGORIES:learning,student
END:VEVENT
END:VCALENDAR