BEGIN:VCALENDAR
VERSION:2.0
PRODID:-//Artificial Intelligence Lab Brussels - ECPv6.15.20//NONSGML v1.0//EN
CALSCALE:GREGORIAN
METHOD:PUBLISH
X-ORIGINAL-URL:https://ai.vub.ac.be
X-WR-CALDESC:Events for Artificial Intelligence Lab Brussels
REFRESH-INTERVAL;VALUE=DURATION:PT1H
X-Robots-Tag:noindex
X-PUBLISHED-TTL:PT1H
BEGIN:VTIMEZONE
TZID:Europe/Brussels
BEGIN:DAYLIGHT
TZOFFSETFROM:+0100
TZOFFSETTO:+0200
TZNAME:CEST
DTSTART:20190331T010000
END:DAYLIGHT
BEGIN:STANDARD
TZOFFSETFROM:+0200
TZOFFSETTO:+0100
TZNAME:CET
DTSTART:20191027T010000
END:STANDARD
BEGIN:DAYLIGHT
TZOFFSETFROM:+0100
TZOFFSETTO:+0200
TZNAME:CEST
DTSTART:20200329T010000
END:DAYLIGHT
BEGIN:STANDARD
TZOFFSETFROM:+0200
TZOFFSETTO:+0100
TZNAME:CET
DTSTART:20201025T010000
END:STANDARD
BEGIN:DAYLIGHT
TZOFFSETFROM:+0100
TZOFFSETTO:+0200
TZNAME:CEST
DTSTART:20210328T010000
END:DAYLIGHT
BEGIN:STANDARD
TZOFFSETFROM:+0200
TZOFFSETTO:+0100
TZNAME:CET
DTSTART:20211031T010000
END:STANDARD
BEGIN:DAYLIGHT
TZOFFSETFROM:+0100
TZOFFSETTO:+0200
TZNAME:CEST
DTSTART:20220327T010000
END:DAYLIGHT
BEGIN:STANDARD
TZOFFSETFROM:+0200
TZOFFSETTO:+0100
TZNAME:CET
DTSTART:20221030T010000
END:STANDARD
BEGIN:DAYLIGHT
TZOFFSETFROM:+0100
TZOFFSETTO:+0200
TZNAME:CEST
DTSTART:20230326T010000
END:DAYLIGHT
BEGIN:STANDARD
TZOFFSETFROM:+0200
TZOFFSETTO:+0100
TZNAME:CET
DTSTART:20231029T010000
END:STANDARD
BEGIN:DAYLIGHT
TZOFFSETFROM:+0100
TZOFFSETTO:+0200
TZNAME:CEST
DTSTART:20240331T010000
END:DAYLIGHT
BEGIN:STANDARD
TZOFFSETFROM:+0200
TZOFFSETTO:+0100
TZNAME:CET
DTSTART:20241027T010000
END:STANDARD
END:VTIMEZONE
BEGIN:VEVENT
DTSTART;TZID=Europe/Brussels:20230503T140000
DTEND;TZID=Europe/Brussels:20230503T170000
DTSTAMP:20260419T151806
CREATED:20230215T112759Z
LAST-MODIFIED:20230215T114116Z
UID:15641-1683122400-1683133200@ai.vub.ac.be
SUMMARY:Masterclass AI 2023
DESCRIPTION:Maak kennis met de wondere wereld van de artificiële intelligentie\n \nVoor wie? \nLeerlingen derde graad secundair onderwijs \nWat? \nArtificiële Intelligentie (AI) is de wetenschap die intelligente technologieën creëert. Onze VUB onderzoekers nemen jou op sleeptouw door de geschiedenis van AI in ons AI Experience Center. Naast boeiende demo’s ga je natuurlijk ook zelf aan de slag met hands-on opdrachten en experimenten. \nVind je het fascinerend hoe snel baby’s taal kunnen leren? Wil je weten wat intelligentie is en hoe het werkt in een menselijk brein en in een computer? Ben je benieuwd naar wat wij kunnen leren van mieren (op gebied van organisatie)? En bovenal\, wil je deze kennis gebruiken om zelf intelligente systemen te maken? \nAls leerling uit de derde graad secundair onderwijs krijg je in deze masterclass een voorsmaakje van wat de bachelor Artificiële Intelligentie inhoudt. Deelname is gratis\, inschrijven is wel verplicht. \n  \nSchrijf me in!
URL:https://ai.vub.ac.be/events-calendar/masterclass-ai-3/
LOCATION:AI Experience Center\, Pleinlaan 9\, Brussel\, 1050\, Belgium
CATEGORIES:AI Experience Center,student
END:VEVENT
BEGIN:VEVENT
DTSTART;TZID=Europe/Brussels:20220511T140000
DTEND;TZID=Europe/Brussels:20220511T180000
DTSTAMP:20260419T151806
CREATED:20220421T132804Z
LAST-MODIFIED:20220421T132959Z
UID:14276-1652277600-1652292000@ai.vub.ac.be
SUMMARY:Masterclass AI
DESCRIPTION:Maak kennis met de wondere wereld van de artificiële intelligentie\n \nVoor wie? \nLeerlingen derde graad secundair onderwijs \nWat? \nArtificiële Intelligentie (AI) is de wetenschap die intelligente technologieën creëert. Onze VUB onderzoekers nemen jou op sleeptouw door de geschiedenis van AI in ons AI Experience Center. Naast boeiende demo’s ga je natuurlijk ook zelf aan de slag met hands-on opdrachten en experimenten. \nVind je het fascinerend hoe snel baby’s taal kunnen leren? Wil je weten wat intelligentie is en hoe het werkt in een menselijk brein en in een computer? Ben je benieuwd naar wat wij kunnen leren van mieren (op gebied van organisatie)? En bovenal\, wil je deze kennis gebruiken om zelf intelligente systemen te maken? \nAls leerling uit de derde graad secundair onderwijs krijg je in deze masterclass een voorsmaakje van wat de nieuwe bachelor Artificiële Intelligentie inhoudt. Deelname is gratis\, inschrijven is verplicht. \n  \nSchrijf me in! \n 
URL:https://ai.vub.ac.be/events-calendar/masterclass-ai-2/
LOCATION:AI Experience Center\, Pleinlaan 9\, Brussel\, 1050\, Belgium
CATEGORIES:AI Experience Center,student
END:VEVENT
BEGIN:VEVENT
DTSTART;TZID=Europe/Brussels:20220420T140000
DTEND;TZID=Europe/Brussels:20220420T180000
DTSTAMP:20260419T151806
CREATED:20220315T230023Z
LAST-MODIFIED:20220321T120133Z
UID:14171-1650463200-1650477600@ai.vub.ac.be
SUMMARY:Masterclass AI
DESCRIPTION:Maak kennis met de wondere wereld van de artificiële intelligentie\n \nVoor wie? \nLeerlingen derde graad secundair onderwijs \nWat? \nArtificiële Intelligentie (AI) is de wetenschap die intelligente technologieën creëert. Onze VUB onderzoekers nemen jou op sleeptouw door de geschiedenis van AI. Naast boeiende demo’s ga je natuurlijk ook zelf aan de slag met hands-on opdrachten en experimenten. \nVind je het fascinerend hoe snel baby’s taal kunnen leren? Wil je weten wat intelligentie is en hoe het werkt in een menselijk brein en in een computer? Ben je benieuwd naar wat wij kunnen leren van mieren (op gebied van organisatie)? En bovenal\, wil je deze kennis gebruiken om zelf intelligente systemen te maken? \nAls leerling uit de derde graad secundair onderwijs krijg je in deze masterclass een voorsmaakje van wat de nieuwe bachelor Artificiële Intelligentie inhoudt. Deelname is gratis\, inschrijven is verplicht. \n  \nSchrijf me in! \n 
URL:https://ai.vub.ac.be/events-calendar/masterclass-ai/
LOCATION:AI Experience Center\, Pleinlaan 9\, Brussel\, 1050\, Belgium
CATEGORIES:AI Experience Center,student
END:VEVENT
BEGIN:VEVENT
DTSTART;TZID=Europe/Brussels:20200518T160000
DTEND;TZID=Europe/Brussels:20200518T173000
DTSTAMP:20260419T151806
CREATED:20200515T110349Z
LAST-MODIFIED:20200518T074137Z
UID:11961-1589817600-1589823000@ai.vub.ac.be
SUMMARY:AI challenges 2020
DESCRIPTION:It’s that time of the year: AI Challenges 2020! The students of the “Current Trends in AI” course (given by Prof. Johan Loeckx of the VUB AI Lab) have been working on 5 promising projects and are eager to share! They will demonstrate their prototypes online this year due to COVID19 measures. The details of the Zoom meeting are shared after registration. \n\nConstraint Cracker — Explore the far corners of the world in this educative puzzle game\, where using your wit is key in solving all the levels. Analyse the situation and find the optimal combinations of constraints to apply.Become a constraint master and solve problems faster than ever before!\nEyeDrone — They are using a drone to assist visually impaired people to find objects int the street. It is possible to give commands\, and the drone will respond accordingly.\nScaraBax — A software designed to automatically sort items when coupled with a physical robot. The software uses state of the art methods in object detection to determine the item to be sorted and gesture recognition to determine user input. This robot could potentially be employed in any setting where automatic sorting is a factor.\nIOWA — A system designed to recommend events to Brussels residents. This system quickly learns what the users are interested in and it makes sure that they never miss their favourite events.\nICU-cockpit — A system that is more user friendly for intensive care units with respect to the briefing and the shift exchange. During a very informative tour at the intensive care unit of the UZ Brussel\, they were allowed to attend a briefing. The software used for displaying patient data is not ideal for a briefing\, it contained an overload if information and was user heavy. Professor Malbrain\, head of the ICU\, tasked them to develop this system.\n\nThis is the perfect opportunity to meet the students\, discover their work\, exchange & be inspired\, specially during COVID19 lockdown! \nJoin us!
URL:https://ai.vub.ac.be/events-calendar/ai-challenges-2020/
CATEGORIES:AI Experience Center,student
END:VEVENT
END:VCALENDAR